BEGIN:VCALENDAR
VERSION:2.0
PRODID:-//Patong Boxing Stadium - ECPv4.5.13//NONSGML v1.0//EN
CALSCALE:GREGORIAN
METHOD:PUBLISH
X-WR-CALNAME:Patong Boxing Stadium
X-ORIGINAL-URL:https://www.patongboxingstadium.com
X-WR-CALDESC:Events for Patong Boxing Stadium
BEGIN:VEVENT
DTSTART;TZID=UTC+0:20191123T210000
DTEND;TZID=UTC+0:20191123T233000
DTSTAMP:20260421T143828
CREATED:20191118T132853Z
LAST-MODIFIED:20191118T132853Z
UID:3969-1574542800-1574551800@www.patongboxingstadium.com
SUMMARY:SUPER FIGHT MUAY THAI SINGPATONG NOVEMBER 23\, 2019
DESCRIPTION: \n
URL:https://www.patongboxingstadium.com/event/super-fight-muay-thai-singpatong-november-23-2019/
LOCATION:2/59 Soi Kebsab\, Sainamyen Road\, Patong Beach\, Kathu\, Patong\, Phuket\, 83150\, Thailand
CATEGORIES:Suk Singpatong Sit Numnoi
END:VEVENT
END:VCALENDAR