BEGIN:VCALENDAR
VERSION:2.0
PRODID:-//Patong Boxing Stadium - ECPv4.5.13//NONSGML v1.0//EN
CALSCALE:GREGORIAN
METHOD:PUBLISH
X-WR-CALNAME:Patong Boxing Stadium
X-ORIGINAL-URL:https://www.patongboxingstadium.com
X-WR-CALDESC:Events for Patong Boxing Stadium
BEGIN:VEVENT
DTSTART;TZID=UTC+0:20190930T210000
DTEND;TZID=UTC+0:20190930T233000
DTSTAMP:20260421T104414
CREATED:20190930T044508Z
LAST-MODIFIED:20190930T044508Z
UID:3898-1569877200-1569886200@www.patongboxingstadium.com
SUMMARY:SUPER FIGHT MUAY THAI INTERNATIONAL SEPTEMBER 30\, 2019
DESCRIPTION: \n
URL:https://www.patongboxingstadium.com/event/super-fight-muay-thai-international-september-30-2019/
LOCATION:2/59 Soi Kebsab\, Sainamyen Road\, Patong Beach\, Kathu\, Patong\, Phuket\, 83150\, Thailand
CATEGORIES:Muay Thai Events
END:VEVENT
END:VCALENDAR