BEGIN:VCALENDAR
VERSION:2.0
PRODID:-//Patong Boxing Stadium - ECPv4.5.13//NONSGML v1.0//EN
CALSCALE:GREGORIAN
METHOD:PUBLISH
X-WR-CALNAME:Patong Boxing Stadium
X-ORIGINAL-URL:https://www.patongboxingstadium.com
X-WR-CALDESC:Events for Patong Boxing Stadium
BEGIN:VEVENT
DTSTART;TZID=UTC+0:20191114T210000
DTEND;TZID=UTC+0:20191114T233000
DTSTAMP:20260421T143850
CREATED:20191111T125826Z
LAST-MODIFIED:20191111T125826Z
UID:3959-1573765200-1573774200@www.patongboxingstadium.com
SUMMARY:SUPER FIGHT MUAY THAI INTERNATIONAL NOVEMBER 14\, 2019
DESCRIPTION: \n
URL:https://www.patongboxingstadium.com/event/super-fight-muay-thai-international-november-14-2019/
LOCATION:2/59 Soi Kebsab\, Sainamyen Road\, Patong Beach\, Kathu\, Patong\, Phuket\, 83150\, Thailand
CATEGORIES:Muay Thai Events
ORGANIZER;CN="PSG%20Muay%20Thai":MAILTO:patongstadiumgym@hotmail.com
END:VEVENT
END:VCALENDAR