BEGIN:VCALENDAR
VERSION:2.0
PRODID:-//Patong Boxing Stadium - ECPv4.5.13//NONSGML v1.0//EN
CALSCALE:GREGORIAN
METHOD:PUBLISH
X-WR-CALNAME:Patong Boxing Stadium
X-ORIGINAL-URL:https://www.patongboxingstadium.com
X-WR-CALDESC:Events for Patong Boxing Stadium
BEGIN:VEVENT
DTSTART;TZID=UTC+0:20191102T210000
DTEND;TZID=UTC+0:20191102T233000
DTSTAMP:20260421T143700
CREATED:20191028T065813Z
LAST-MODIFIED:20191028T065813Z
UID:3939-1572728400-1572737400@www.patongboxingstadium.com
SUMMARY:SINGPATONG MUAY THAI INTERNATIONAL NOVEMBER 02\, 2019
DESCRIPTION: \n
URL:https://www.patongboxingstadium.com/event/singpatong-muay-thai-international-november-02-2019/
LOCATION:2/59 Soi Kebsab\, Sainamyen Road\, Patong Beach\, Kathu\, Patong\, Phuket\, 83150\, Thailand
CATEGORIES:Suk Singpatong Sit Numnoi
ORGANIZER;CN="Numnoi%20Singpatong%20and%20Somsak%20Julaka":MAILTO:info@muaythaifighttickets.com
END:VEVENT
END:VCALENDAR