BEGIN:VCALENDAR
VERSION:2.0
PRODID:-//Patong Boxing Stadium - ECPv4.5.13//NONSGML v1.0//EN
CALSCALE:GREGORIAN
METHOD:PUBLISH
X-WR-CALNAME:Patong Boxing Stadium
X-ORIGINAL-URL:https://www.patongboxingstadium.com
X-WR-CALDESC:Events for Patong Boxing Stadium
BEGIN:VEVENT
DTSTART;TZID=UTC+0:20190622T210000
DTEND;TZID=UTC+0:20190622T233000
DTSTAMP:20260423T145438
CREATED:20190617T055426Z
LAST-MODIFIED:20190617T055426Z
UID:3733-1561237200-1561246200@www.patongboxingstadium.com
SUMMARY:SINGPATONG MUAY THAI INTERNATIONAL JUNE 22\, 2019
DESCRIPTION: \n
URL:https://www.patongboxingstadium.com/event/singpatong-muay-thai-international-june-22-2019/
LOCATION:2/59 Soi Kebsab\, Sainamyen Road\, Patong Beach\, Kathu\, Patong\, Phuket\, 83150\, Thailand
CATEGORIES:Suk Singpatong Sit Numnoi
ORGANIZER;CN="Numnoi%20Singpatong%20and%20Somsak%20Julaka":MAILTO:info@muaythaifighttickets.com
END:VEVENT
END:VCALENDAR