BEGIN:VCALENDAR
VERSION:2.0
PRODID:-//Patong Boxing Stadium - ECPv4.5.13//NONSGML v1.0//EN
CALSCALE:GREGORIAN
METHOD:PUBLISH
X-WR-CALNAME:Patong Boxing Stadium
X-ORIGINAL-URL:https://www.patongboxingstadium.com
X-WR-CALDESC:Events for Patong Boxing Stadium
BEGIN:VEVENT
DTSTART;TZID=UTC+0:20200104T210000
DTEND;TZID=UTC+0:20200104T233000
DTSTAMP:20260422T103326
CREATED:20200103T023740Z
LAST-MODIFIED:20200111T024604Z
UID:4033-1578171600-1578180600@www.patongboxingstadium.com
SUMMARY:SINGPATONG MUAY THAI INTERNATIONAL JANUARY 4\, 2020
DESCRIPTION: \n
URL:https://www.patongboxingstadium.com/event/singpatong-muay-thai-international-january-4-2019/
LOCATION:2/59 Soi Kebsab\, Sainamyen Road\, Patong Beach\, Kathu\, Patong\, Phuket\, 83150\, Thailand
CATEGORIES:Suk Singpatong Sit Numnoi
ORGANIZER;CN="Numnoi%20Singpatong%20and%20Somsak%20Julaka":MAILTO:info@muaythaifighttickets.com
END:VEVENT
END:VCALENDAR