BEGIN:VCALENDAR
VERSION:2.0
PRODID:-//Patong Boxing Stadium - ECPv4.5.13//NONSGML v1.0//EN
CALSCALE:GREGORIAN
METHOD:PUBLISH
X-WR-CALNAME:Patong Boxing Stadium
X-ORIGINAL-URL:https://www.patongboxingstadium.com
X-WR-CALDESC:Events for Patong Boxing Stadium
BEGIN:VEVENT
DTSTART;TZID=UTC+0:20190905T210000
DTEND;TZID=UTC+0:20190905T233000
DTSTAMP:20260419T151131
CREATED:20190902T083139Z
LAST-MODIFIED:20190902T083139Z
UID:3856-1567717200-1567726200@www.patongboxingstadium.com
SUMMARY:PT-1 MUAY THAI CHAMPIONSHIP INTERNATIONAL SEPTEMBER 05\, 2019
DESCRIPTION: \n
URL:https://www.patongboxingstadium.com/event/pt-1-muay-thai-championship-international-september-05-2019/
LOCATION:2/59 Soi Kebsab\, Sainamyen Road\, Patong Beach\, Kathu\, Patong\, Phuket\, 83150\, Thailand
CATEGORIES:Muay Thai Events
END:VEVENT
END:VCALENDAR