BEGIN:VCALENDAR
VERSION:2.0
PRODID:-//Patong Boxing Stadium - ECPv4.5.13//NONSGML v1.0//EN
CALSCALE:GREGORIAN
METHOD:PUBLISH
X-WR-CALNAME:Patong Boxing Stadium
X-ORIGINAL-URL:https://www.patongboxingstadium.com
X-WR-CALDESC:Events for Patong Boxing Stadium
BEGIN:VEVENT
DTSTART;TZID=UTC+0:20190606T210000
DTEND;TZID=UTC+0:20190606T233000
DTSTAMP:20260423T163235
CREATED:20190603T165018Z
LAST-MODIFIED:20190603T165018Z
UID:3707-1559854800-1559863800@www.patongboxingstadium.com
SUMMARY:PT-1 MUAY THAI CHAMPIONSHIP INTERNATIONAL JUNE 06\, 2019
DESCRIPTION: \n
URL:https://www.patongboxingstadium.com/event/pt-1-muay-thai-championship-international-june-06-2019/
LOCATION:2/59 Soi Kebsab\, Sainamyen Road\, Patong Beach\, Kathu\, Patong\, Phuket\, 83150\, Thailand
CATEGORIES:Muay Thai Events
END:VEVENT
END:VCALENDAR