BEGIN:VCALENDAR
VERSION:2.0
PRODID:-//Patong Boxing Stadium - ECPv4.5.13//NONSGML v1.0//EN
CALSCALE:GREGORIAN
METHOD:PUBLISH
X-WR-CALNAME:Patong Boxing Stadium
X-ORIGINAL-URL:https://www.patongboxingstadium.com
X-WR-CALDESC:Events for Patong Boxing Stadium
BEGIN:VEVENT
DTSTART;TZID=UTC+0:20190704T210000
DTEND;TZID=UTC+0:20190704T233000
DTSTAMP:20260423T123200
CREATED:20190701T044005Z
LAST-MODIFIED:20190701T044005Z
UID:3754-1562274000-1562283000@www.patongboxingstadium.com
SUMMARY:PT-1 MUAY THAI CHAMPIONSHIP INTERNATIONAL JULY 04\, 2019
DESCRIPTION: \n
URL:https://www.patongboxingstadium.com/event/pt-1-muay-thai-championship-international-july-04-2019/
LOCATION:2/59 Soi Kebsab\, Sainamyen Road\, Patong Beach\, Kathu\, Patong\, Phuket\, 83150\, Thailand
CATEGORIES:Muay Thai Events
END:VEVENT
END:VCALENDAR