BEGIN:VCALENDAR
VERSION:2.0
PRODID:-//Patong Boxing Stadium - ECPv4.5.13//NONSGML v1.0//EN
CALSCALE:GREGORIAN
METHOD:PUBLISH
X-WR-CALNAME:Patong Boxing Stadium
X-ORIGINAL-URL:https://www.patongboxingstadium.com
X-WR-CALDESC:Events for Patong Boxing Stadium
BEGIN:VEVENT
DTSTART;TZID=UTC+0:20200102T210000
DTEND;TZID=UTC+0:20200102T233000
DTSTAMP:20260421T161816
CREATED:20200103T023529Z
LAST-MODIFIED:20200111T024557Z
UID:4032-1577998800-1578007800@www.patongboxingstadium.com
SUMMARY:PT-1 MUAY THAI CHAMPIONSHIP INTERNATIONAL JANUARY 2\, 2020
DESCRIPTION: \n
URL:https://www.patongboxingstadium.com/event/pt-1-muay-thai-championship-international-january-2-2019/
LOCATION:2/59 Soi Kebsab\, Sainamyen Road\, Patong Beach\, Kathu\, Patong\, Phuket\, 83150\, Thailand
CATEGORIES:Muay Thai Events
END:VEVENT
END:VCALENDAR