BEGIN:VCALENDAR
VERSION:2.0
PRODID:-//Patong Boxing Stadium - ECPv4.5.13//NONSGML v1.0//EN
CALSCALE:GREGORIAN
METHOD:PUBLISH
X-WR-CALNAME:Patong Boxing Stadium
X-ORIGINAL-URL:https://www.patongboxingstadium.com
X-WR-CALDESC:Events for Patong Boxing Stadium
BEGIN:VEVENT
DTSTART;TZID=UTC+0:20191111T210000
DTEND;TZID=UTC+0:20191111T233000
DTSTAMP:20260423T084203
CREATED:20191111T064035Z
LAST-MODIFIED:20191111T064035Z
UID:3958-1573506000-1573515000@www.patongboxingstadium.com
SUMMARY:PK-1 REAL FIGHT MUAY THAI NOVEMBER 11\, 2019
DESCRIPTION: \n
URL:https://www.patongboxingstadium.com/event/pk-1-real-fight-muay-thai-november-11-2019/
LOCATION:2/59 Soi Kebsab\, Sainamyen Road\, Patong Beach\, Kathu\, Patong\, Phuket\, 83150\, Thailand
CATEGORIES:Muay Thai Events
END:VEVENT
END:VCALENDAR