BEGIN:VCALENDAR
VERSION:2.0
PRODID:-//Patong Boxing Stadium - ECPv4.5.13//NONSGML v1.0//EN
CALSCALE:GREGORIAN
METHOD:PUBLISH
X-WR-CALNAME:Patong Boxing Stadium
X-ORIGINAL-URL:https://www.patongboxingstadium.com
X-WR-CALDESC:Events for Patong Boxing Stadium
BEGIN:VEVENT
DTSTART;TZID=UTC+0:20191121T210000
DTEND;TZID=UTC+0:20191121T233000
DTSTAMP:20260421T143051
CREATED:20191118T132406Z
LAST-MODIFIED:20191118T132406Z
UID:3968-1574370000-1574379000@www.patongboxingstadium.com
SUMMARY:MUAY THAI INTERNATIONAL NOVEMBER 21\, 2019
DESCRIPTION: \n
URL:https://www.patongboxingstadium.com/event/muay-thai-international-november-21-2019/
LOCATION:2/59 Soi Kebsab\, Sainamyen Road\, Patong Beach\, Kathu\, Patong\, Phuket\, 83150\, Thailand
CATEGORIES:Muay Thai Events
END:VEVENT
END:VCALENDAR