BEGIN:VCALENDAR
VERSION:2.0
PRODID:-//Patong Boxing Stadium - ECPv4.5.13//NONSGML v1.0//EN
CALSCALE:GREGORIAN
METHOD:PUBLISH
X-WR-CALNAME:Patong Boxing Stadium
X-ORIGINAL-URL:https://www.patongboxingstadium.com
X-WR-CALDESC:Events for Patong Boxing Stadium
BEGIN:VEVENT
DTSTART;TZID=UTC+0:20190610T210000
DTEND;TZID=UTC+0:20190610T233000
DTSTAMP:20260423T125448
CREATED:20190609T034157Z
LAST-MODIFIED:20190609T034157Z
UID:3718-1560200400-1560209400@www.patongboxingstadium.com
SUMMARY:MUAY THAI INTERNATIONAL JUNE 10\, 2019
DESCRIPTION: \n
URL:https://www.patongboxingstadium.com/event/muay-thai-international-june-10-2019/
LOCATION:2/59 Soi Kebsab\, Sainamyen Road\, Patong Beach\, Kathu\, Patong\, Phuket\, 83150\, Thailand
CATEGORIES:Muay Thai Events
END:VEVENT
END:VCALENDAR