BEGIN:VCALENDAR
VERSION:2.0
PRODID:-//Patong Boxing Stadium - ECPv4.5.13//NONSGML v1.0//EN
CALSCALE:GREGORIAN
METHOD:PUBLISH
X-WR-CALNAME:Patong Boxing Stadium
X-ORIGINAL-URL:https://www.patongboxingstadium.com
X-WR-CALDESC:Events for Patong Boxing Stadium
BEGIN:VEVENT
DTSTART;TZID=UTC+0:20200113T210000
DTEND;TZID=UTC+0:20200113T233000
DTSTAMP:20260420T164011
CREATED:20200116T015649Z
LAST-MODIFIED:20200116T015649Z
UID:4053-1578949200-1578958200@www.patongboxingstadium.com
SUMMARY:MUAY THAI INTERNATIONAL CHAMPIONSHIP JANUARY 13\, 2020
DESCRIPTION: \n
URL:https://www.patongboxingstadium.com/event/muay-thai-international-championship-january-13-2020/
LOCATION:2/59 Soi Kebsab\, Sainamyen Road\, Patong Beach\, Kathu\, Patong\, Phuket\, 83150\, Thailand
CATEGORIES:Muay Thai Events
END:VEVENT
END:VCALENDAR