BEGIN:VCALENDAR
VERSION:2.0
PRODID:-//Patong Boxing Stadium - ECPv4.5.13//NONSGML v1.0//EN
CALSCALE:GREGORIAN
METHOD:PUBLISH
X-WR-CALNAME:Patong Boxing Stadium
X-ORIGINAL-URL:https://www.patongboxingstadium.com
X-WR-CALDESC:Events for Patong Boxing Stadium
BEGIN:VEVENT
DTSTART;TZID=UTC+0:20191230T210000
DTEND;TZID=UTC+0:20191230T233000
DTSTAMP:20260423T083407
CREATED:20200103T023324Z
LAST-MODIFIED:20200103T023324Z
UID:4031-1577739600-1577748600@www.patongboxingstadium.com
SUMMARY:MUAY THAI INTERNATIONAL CHAMPIONSHIP DECEMBER 30\, 2019
DESCRIPTION: \n
URL:https://www.patongboxingstadium.com/event/muay-thai-international-championship-december-30-2019/
LOCATION:2/59 Soi Kebsab\, Sainamyen Road\, Patong Beach\, Kathu\, Patong\, Phuket\, 83150\, Thailand
CATEGORIES:Muay Thai Events
END:VEVENT
END:VCALENDAR